BEGIN:VCALENDAR
VERSION:2.0
PRODID:-//Museo siderurgia y minería de Castilla y León - ECPv6.15.5//NONSGML v1.0//EN
CALSCALE:GREGORIAN
METHOD:PUBLISH
X-WR-CALNAME:Museo siderurgia y minería de Castilla y León
X-ORIGINAL-URL:https://www.museosiderurgiamineriacyl.es
X-WR-CALDESC:Eventos para Museo siderurgia y minería de Castilla y León
REFRESH-INTERVAL;VALUE=DURATION:PT1H
X-Robots-Tag:noindex
X-PUBLISHED-TTL:PT1H
BEGIN:VTIMEZONE
TZID:Europe/Madrid
BEGIN:DAYLIGHT
TZOFFSETFROM:+0100
TZOFFSETTO:+0200
TZNAME:CEST
DTSTART:20080330T010000
END:DAYLIGHT
BEGIN:STANDARD
TZOFFSETFROM:+0200
TZOFFSETTO:+0100
TZNAME:CET
DTSTART:20081026T010000
END:STANDARD
BEGIN:DAYLIGHT
TZOFFSETFROM:+0100
TZOFFSETTO:+0200
TZNAME:CEST
DTSTART:20090329T010000
END:DAYLIGHT
BEGIN:STANDARD
TZOFFSETFROM:+0200
TZOFFSETTO:+0100
TZNAME:CET
DTSTART:20091025T010000
END:STANDARD
BEGIN:DAYLIGHT
TZOFFSETFROM:+0100
TZOFFSETTO:+0200
TZNAME:CEST
DTSTART:20100328T010000
END:DAYLIGHT
BEGIN:STANDARD
TZOFFSETFROM:+0200
TZOFFSETTO:+0100
TZNAME:CET
DTSTART:20101031T010000
END:STANDARD
BEGIN:DAYLIGHT
TZOFFSETFROM:+0100
TZOFFSETTO:+0200
TZNAME:CEST
DTSTART:20110327T010000
END:DAYLIGHT
BEGIN:STANDARD
TZOFFSETFROM:+0200
TZOFFSETTO:+0100
TZNAME:CET
DTSTART:20111030T010000
END:STANDARD
BEGIN:DAYLIGHT
TZOFFSETFROM:+0100
TZOFFSETTO:+0200
TZNAME:CEST
DTSTART:20120325T010000
END:DAYLIGHT
BEGIN:STANDARD
TZOFFSETFROM:+0200
TZOFFSETTO:+0100
TZNAME:CET
DTSTART:20121028T010000
END:STANDARD
BEGIN:DAYLIGHT
TZOFFSETFROM:+0100
TZOFFSETTO:+0200
TZNAME:CEST
DTSTART:20130331T010000
END:DAYLIGHT
BEGIN:STANDARD
TZOFFSETFROM:+0200
TZOFFSETTO:+0100
TZNAME:CET
DTSTART:20131027T010000
END:STANDARD
END:VTIMEZONE
BEGIN:VEVENT
DTSTART;TZID=Europe/Madrid:20130601T200000
DTEND;TZID=Europe/Madrid:20130601T200000
DTSTAMP:20260422T095959
CREATED:20181207T210754Z
LAST-MODIFIED:20190709T171051Z
UID:636-1370116800-1370116800@www.museosiderurgiamineriacyl.es
SUMMARY:Exposición: "Bicileta: del trabajo al odio"
DESCRIPTION:[vc_row][vc_column][vc_gallery type=”image_grid” images=”638\,639\,640\,641″][/vc_column][/vc_row]
URL:https://www.museosiderurgiamineriacyl.es/evento/bicileta-del-trabajo-al-odio/
LOCATION:Museo de la Siderurgia y la Minería de Castilla y León\, Plaza San Blas\, 1\, Sabero\, León\, 24810\, España
CATEGORIES:Exposiciones
ATTACH;FMTTYPE=image/jpeg:https://www.museosiderurgiamineriacyl.es/wp-content/uploads/2018/12/cartel.jpg
END:VEVENT
BEGIN:VEVENT
DTSTART;TZID=Europe/Madrid:20130517T150000
DTEND;TZID=Europe/Madrid:20130630T190000
DTSTAMP:20260422T095959
CREATED:20181207T210343Z
LAST-MODIFIED:20190709T171116Z
UID:627-1368802800-1372618800@www.museosiderurgiamineriacyl.es
SUMMARY:Exposición: La Felguera
DESCRIPTION:[vc_row][vc_column][vc_gallery type=”image_grid” images=”631\,632\,633\,634″][vc_row_inner][vc_column_inner width=”1/2″][vc_btn title=”Hoja de información” color=”sandy-brown” i_icon_fontawesome=”fa fa-download” add_icon=”true” link=”url:%2Fwp-content%2Fuploads%2F2018%2F12%2Fdipticofelguera.pdf||target:%20_blank|”][/vc_column_inner][vc_column_inner width=”1/2″][vc_btn title=”Cartel de la exposición” color=”sandy-brown” i_icon_fontawesome=”fa fa-download” add_icon=”true” link=”url:%2Fwp-content%2Fuploads%2F2018%2F12%2Fcartelfelguera.pdf||target:%20_blank|”][/vc_column_inner][/vc_row_inner][/vc_column][/vc_row]
URL:https://www.museosiderurgiamineriacyl.es/evento/la-felguera/
LOCATION:Museo de la Siderurgia y la Minería de Castilla y León\, Plaza San Blas\, 1\, Sabero\, León\, 24810\, España
CATEGORIES:Exposiciones
ATTACH;FMTTYPE=image/gif:https://www.museosiderurgiamineriacyl.es/wp-content/uploads/2018/12/portada-felguera.gif
END:VEVENT
BEGIN:VEVENT
DTSTART;TZID=Europe/Madrid:20130427T143000
DTEND;TZID=Europe/Madrid:20130831T190000
DTSTAMP:20260422T095959
CREATED:20181207T205621Z
LAST-MODIFIED:20200118T160835Z
UID:609-1367073000-1377975600@www.museosiderurgiamineriacyl.es
SUMMARY:Exposición: Encadenados a la oscuridad
DESCRIPTION:[vc_row][vc_column][vc_gallery type=”image_grid” images=”613\,614\,615\,616\,617\,618\,619\,620\,621\,622\,623\,624″][vc_row_inner][vc_column_inner width=”1/3″][vc_btn title=”Hoja de información” color=”sandy-brown” i_icon_fontawesome=”fa fa-download” add_icon=”true” link=”url:%2Fwp-content%2Fuploads%2F2018%2F12%2Fhoja-encadenados.pdf||target:%20_blank|”][/vc_column_inner][vc_column_inner width=”1/3″][vc_btn title=”Cartel de la exposición” color=”sandy-brown” i_icon_fontawesome=”fa fa-download” add_icon=”true” link=”url:%2Fwp-content%2Fuploads%2F2018%2F12%2Fcartel-encadenados.pdf||target:%20_blank|”][/vc_column_inner][vc_column_inner width=”1/3″][vc_btn title=”VISITA VIRTUAL” color=”sandy-brown” i_icon_fontawesome=”fa fa-eye” add_icon=”true” link=”url:%2Fvisitas-virtuales%2Fencadenados-a-la-oscuridad%2F||target:%20_blank|”][/vc_column_inner][/vc_row_inner][vc_row_inner][vc_column_inner width=”1/3″][vc_btn title=”Catálogo” color=”sandy-brown” i_icon_fontawesome=”fa fa-download” add_icon=”true” link=”url:%2Fwp-content%2Fuploads%2F2013%2F06%2Fencadenados.pdf||target:%20_blank|”][/vc_column_inner][vc_column_inner][/vc_column_inner][/vc_row_inner][/vc_column][/vc_row]
URL:https://www.museosiderurgiamineriacyl.es/evento/encadenados-a-la-oscuridad/
LOCATION:Museo de la Siderurgia y la Minería de Castilla y León\, Plaza San Blas\, 1\, Sabero\, León\, 24810\, España
CATEGORIES:Exposiciones
ATTACH;FMTTYPE=image/jpeg:https://www.museosiderurgiamineriacyl.es/wp-content/uploads/2018/12/portada-encadenados.jpg
END:VEVENT
BEGIN:VEVENT
DTSTART;VALUE=DATE:20130201
DTEND;VALUE=DATE:20130402
DTSTAMP:20260422T095959
CREATED:20181207T204657Z
LAST-MODIFIED:20190709T171131Z
UID:601-1359680400-1364781599@www.museosiderurgiamineriacyl.es
SUMMARY:Exposición: Ensidesa
DESCRIPTION:[vc_row][vc_column][vc_gallery type=”image_grid” images=”605\,606\,607″][vc_row_inner][vc_column_inner width=”1/2″][vc_btn title=”Hoja de información” color=”sandy-brown” i_icon_fontawesome=”fa fa-download” add_icon=”true” link=”url:%2Fwp-content%2Fuploads%2F2018%2F12%2Fensidesa.pdf||target:%20_blank|”][/vc_column_inner][vc_column_inner width=”1/2″][vc_btn title=”Cartel de la exposición” color=”sandy-brown” i_icon_fontawesome=”fa fa-download” add_icon=”true” link=”url:%2Fwp-content%2Fuploads%2F2018%2F12%2Fensidesa2.pdf||target:%20_blank|”][/vc_column_inner][/vc_row_inner][/vc_column][/vc_row]
URL:https://www.museosiderurgiamineriacyl.es/evento/ensidesa/
LOCATION:Museo de la Siderurgia y la Minería de Castilla y León\, Plaza San Blas\, 1\, Sabero\, León\, 24810\, España
CATEGORIES:Exposiciones
ATTACH;FMTTYPE=image/jpeg:https://www.museosiderurgiamineriacyl.es/wp-content/uploads/2018/12/portada-ensidesa.jpg
END:VEVENT
BEGIN:VEVENT
DTSTART;VALUE=DATE:20120518
DTEND;VALUE=DATE:20120520
DTSTAMP:20260422T095959
CREATED:20181207T203710Z
LAST-MODIFIED:20190709T165455Z
UID:597-1337306400-1337392799@www.museosiderurgiamineriacyl.es
SUMMARY:Exposición: MSM+
DESCRIPTION:[vc_row][vc_column][vc_row_inner][vc_column_inner][vc_btn title=”Hoja de información” color=”sandy-brown” i_icon_fontawesome=”fa fa-download” add_icon=”true” link=”url:%2Fwp-content%2Fuploads%2F2018%2F12%2Fmas.pdf||target:%20_blank|”][/vc_column_inner][/vc_row_inner][/vc_column][/vc_row]
URL:https://www.museosiderurgiamineriacyl.es/evento/exposicion-msm/
LOCATION:Museo de la Siderurgia y la Minería de Castilla y León\, Plaza San Blas\, 1\, Sabero\, León\, 24810\, España
CATEGORIES:Exposiciones
ATTACH;FMTTYPE=image/jpeg:https://www.museosiderurgiamineriacyl.es/wp-content/uploads/2018/12/MSM.jpg
END:VEVENT
BEGIN:VEVENT
DTSTART;VALUE=DATE:20111031
DTEND;VALUE=DATE:20111129
DTSTAMP:20260422T095959
CREATED:20181207T203244Z
LAST-MODIFIED:20190709T171247Z
UID:594-1320022800-1322441999@www.museosiderurgiamineriacyl.es
SUMMARY:Exposición: 100 elementos del patrimonio industrial de España
DESCRIPTION:[vc_row][vc_column][vc_row_inner][vc_column_inner][vc_btn title=”VISITA VIRTUAL” color=”sandy-brown” i_icon_fontawesome=”fa fa-download” add_icon=”true” link=”url:%23||target:%20_blank|”][/vc_column_inner][/vc_row_inner][/vc_column][/vc_row]
URL:https://www.museosiderurgiamineriacyl.es/evento/100-elementos-del-patrimonio-industrial-de-espana/
LOCATION:Museo de la Siderurgia y la Minería de Castilla y León\, Plaza San Blas\, 1\, Sabero\, León\, 24810\, España
CATEGORIES:Exposiciones
ATTACH;FMTTYPE=image/jpeg:https://www.museosiderurgiamineriacyl.es/wp-content/uploads/2018/12/100-elementos-portada.jpg
END:VEVENT
BEGIN:VEVENT
DTSTART;VALUE=DATE:20110901
DTEND;VALUE=DATE:20120302
DTSTAMP:20260422T095959
CREATED:20181207T195344Z
LAST-MODIFIED:20190709T171253Z
UID:569-1314842400-1330563599@www.museosiderurgiamineriacyl.es
SUMMARY:Exposición: Meteoritos 2011
DESCRIPTION:[vc_row][vc_column][vc_gallery type=”image_grid” images=”574\,575\,576\,577\,578\,579″][vc_row_inner][vc_column_inner width=”1/3″][vc_btn title=”Cartel de la exposición” color=”sandy-brown” i_icon_fontawesome=”fa fa-download” add_icon=”true” link=”url:%2Fwp-content%2Fuploads%2F2018%2F12%2FCARTEL-EXPOSICION-meteoritos2011.pdf||target:%20_blank|”][/vc_column_inner][vc_column_inner width=”1/3″][vc_btn title=”Hoja de información” color=”sandy-brown” i_icon_fontawesome=”fa fa-download” add_icon=”true” link=”url:%2Fwp-content%2Fuploads%2F2018%2F11%2FPaisajes.pdf%2Fwp-content%2Fuploads%2F2018%2F12%2FNOTA-DE-PRENSA-meteoritos2011.pdf||target:%20_blank|”][/vc_column_inner][vc_column_inner width=”1/3″][vc_btn title=”Créditos de la exposición” color=”sandy-brown” i_icon_fontawesome=”fa fa-download” add_icon=”true” link=”url:%2Fwp-content%2Fuploads%2F2018%2F12%2FCREDITOS-EXPOSICION-meteoritos2011.pdf||target:%20_blank|”][/vc_column_inner][/vc_row_inner][/vc_column][/vc_row][vc_row][vc_column width=”1/3″][/vc_column][vc_column width=”1/3″][vc_btn title=”Visita virtual” color=”sandy-brown” i_icon_fontawesome=”fa fa-eye” add_icon=”true” link=”url:%2Fvisitas-virtuales%2Fmeteoritos%2F||target:%20_blank|”][/vc_column][vc_column width=”1/3″][/vc_column][/vc_row]
URL:https://www.museosiderurgiamineriacyl.es/evento/meteoritos-2011/
LOCATION:Museo de la Siderurgia y la Minería de Castilla y León\, Plaza San Blas\, 1\, Sabero\, León\, 24810\, España
CATEGORIES:Exposiciones
ATTACH;FMTTYPE=image/jpeg:https://www.museosiderurgiamineriacyl.es/wp-content/uploads/2018/12/portada-meteoritos2011.jpg
END:VEVENT
BEGIN:VEVENT
DTSTART;TZID=Europe/Madrid:20110409T150000
DTEND;TZID=Europe/Madrid:20110630T190000
DTSTAMP:20260422T095959
CREATED:20181207T201012Z
LAST-MODIFIED:20190709T171324Z
UID:581-1302361200-1309460400@www.museosiderurgiamineriacyl.es
SUMMARY:Exposición: Brosio\, el pintor de los mineros
DESCRIPTION:[vc_row][vc_column][vc_gallery type=”image_grid” images=”585\,586\,587\,588\,589\,590″][vc_row_inner][vc_column_inner width=”1/3″][vc_btn title=”Cartel de la exposición” color=”sandy-brown” i_icon_fontawesome=”fa fa-download” add_icon=”true” link=”url:%2Fwp-content%2Fuploads%2F2018%2F12%2FMSM_BROSIO_BAJA.pdf||target:%20_blank|”][/vc_column_inner][vc_column_inner width=”1/3″][vc_btn title=”Hoja de información” color=”sandy-brown” i_icon_fontawesome=”fa fa-download” add_icon=”true” link=”url:%2Fwp-content%2Fuploads%2F2018%2F12%2Fnotabrosio.pdf||target:%20_blank|”][/vc_column_inner][vc_column_inner width=”1/3″][vc_btn title=”Visita virtual” color=”sandy-brown” i_icon_fontawesome=”fa fa-eye” add_icon=”true” link=”url:%2Fvisitas-virtuales%2Fbrosio%2F||target:%20_blank|”][/vc_column_inner][/vc_row_inner][/vc_column][/vc_row]
URL:https://www.museosiderurgiamineriacyl.es/evento/brosio-el-pintor-de-los-mineros/
LOCATION:Museo de la Siderurgia y la Minería de Castilla y León\, Plaza San Blas\, 1\, Sabero\, León\, 24810\, España
CATEGORIES:Exposiciones
ATTACH;FMTTYPE=image/jpeg:https://www.museosiderurgiamineriacyl.es/wp-content/uploads/2018/12/portada-brosio.jpg
END:VEVENT
BEGIN:VEVENT
DTSTART;VALUE=DATE:20110115
DTEND;VALUE=DATE:20110322
DTSTAMP:20260422T095959
CREATED:20181207T190222Z
LAST-MODIFIED:20190709T171318Z
UID:539-1295053200-1300669199@www.museosiderurgiamineriacyl.es
SUMMARY:Exposición: Oro y sal
DESCRIPTION:[vc_row][vc_column][vc_gallery type=”image_grid” images=”542\,543\,544\,545\,546\,547″][vc_row_inner][vc_column_inner width=”1/2″][vc_btn title=”Cartel de la exposición” color=”sandy-brown” i_icon_fontawesome=”fa fa-download” add_icon=”true” link=”url:%2Fwp-content%2Fuploads%2F2018%2F12%2FCartelOroySal.pdf||target:%20_blank|”][/vc_column_inner][vc_column_inner width=”1/2″][vc_btn title=”Folleto de la exposición” color=”sandy-brown” i_icon_fontawesome=”fa fa-download” add_icon=”true” link=”url:%2Fwp-content%2Fuploads%2F2018%2F12%2Foroysal.pdf||target:%20_blank|”][/vc_column_inner][/vc_row_inner][/vc_column][/vc_row]
URL:https://www.museosiderurgiamineriacyl.es/evento/oro-y-sal/
LOCATION:Museo de la Siderurgia y la Minería de Castilla y León\, Plaza San Blas\, 1\, Sabero\, León\, 24810\, España
CATEGORIES:Exposiciones
ATTACH;FMTTYPE=image/jpeg:https://www.museosiderurgiamineriacyl.es/wp-content/uploads/2018/12/portada-oro.jpg
END:VEVENT
BEGIN:VEVENT
DTSTART;VALUE=DATE:20091201
DTEND;VALUE=DATE:20100502
DTSTAMP:20260422T095959
CREATED:20181207T163907Z
LAST-MODIFIED:20190709T171352Z
UID:491-1259629200-1272679199@www.museosiderurgiamineriacyl.es
SUMMARY:Exposición: Ángel Peres - Retrospectiva
DESCRIPTION:[vc_row][vc_column][vc_gallery type=”image_grid” images=”497\,498\,493\,494\,495\,496″][vc_row_inner][vc_column_inner width=”1/3″][vc_btn title=”Dossier de la exposición” color=”sandy-brown” i_icon_fontawesome=”fa fa-download” add_icon=”true” link=”url:%2Fwp-content%2Fuploads%2F2018%2F12%2Fdossierangelperes.pdf||target:%20_blank|”][/vc_column_inner][vc_column_inner width=”1/3″][vc_btn title=”Hoja de información” color=”sandy-brown” i_icon_fontawesome=”fa fa-download” add_icon=”true” link=”url:%2Fwp-content%2Fuploads%2F2018%2F12%2Fboletinangelperes.pdf||target:%20_blank|”][/vc_column_inner][vc_column_inner width=”1/3″][vc_btn title=”Folleto de la exposición” color=”sandy-brown” i_icon_fontawesome=”fa fa-download” add_icon=”true” link=”url:%2Fwp-content%2Fuploads%2F2018%2F12%2Ffolleto-museo.pdf||target:%20_blank|”][/vc_column_inner][/vc_row_inner][/vc_column][/vc_row][vc_row][vc_column width=”1/3″][/vc_column][vc_column width=”1/3″][vc_btn title=”Visita virtual” color=”sandy-brown” i_icon_fontawesome=”fa fa-eye” add_icon=”true” link=”url:%2Fvisitas-virtuales%2Fangel-peres%2F||target:%20_blank|”][/vc_column][vc_column width=”1/3″][/vc_column][/vc_row]
URL:https://www.museosiderurgiamineriacyl.es/evento/angel-peres-retrospectiva/
LOCATION:Museo de la Siderurgia y la Minería de Castilla y León\, Plaza San Blas\, 1\, Sabero\, León\, 24810\, España
CATEGORIES:Exposiciones
ATTACH;FMTTYPE=image/jpeg:https://www.museosiderurgiamineriacyl.es/wp-content/uploads/2018/12/portada-retrospectiva.jpg
END:VEVENT
BEGIN:VEVENT
DTSTART;TZID=Europe/Madrid:20090703T110000
DTEND;TZID=Europe/Madrid:20090930T190000
DTSTAMP:20260422T095959
CREATED:20181207T160639Z
LAST-MODIFIED:20190709T171400Z
UID:480-1246618800-1254337200@www.museosiderurgiamineriacyl.es
SUMMARY:Exposición: Meteoritos
DESCRIPTION:[vc_row][vc_column][vc_gallery type=”image_grid” images=”484\,483\,482″][vc_row_inner][vc_column_inner width=”1/3″][vc_btn title=”Dossier de información” color=”sandy-brown” i_icon_fontawesome=”fa fa-download” add_icon=”true” link=”url:%2Fwp-content%2Fuploads%2F2018%2F12%2Fdossiermeteoritos.pdf||target:%20_blank|”][/vc_column_inner][vc_column_inner width=”1/3″][vc_btn title=”Hoja de información” color=”sandy-brown” i_icon_fontawesome=”fa fa-download” add_icon=”true” link=”url:%2Fwp-content%2Fuploads%2F2018%2F12%2Fhojainformacionmeteoritos.pdf||target:%20_blank|”][/vc_column_inner][vc_column_inner width=”1/3″][vc_btn title=”Folleto de la exposición” color=”sandy-brown” i_icon_fontawesome=”fa fa-download” add_icon=”true” link=”url:%2Fwp-content%2Fuploads%2F2018%2F12%2Ffolletometeorito.pdf||target:%20_blank|”][/vc_column_inner][/vc_row_inner][/vc_column][/vc_row]
URL:https://www.museosiderurgiamineriacyl.es/evento/meteoritos/
LOCATION:Museo de la Siderurgia y la Minería de Castilla y León\, Plaza San Blas\, 1\, Sabero\, León\, 24810\, España
CATEGORIES:Exposiciones
ATTACH;FMTTYPE=image/jpeg:https://www.museosiderurgiamineriacyl.es/wp-content/uploads/2018/12/portada-meteoritos.jpg
END:VEVENT
BEGIN:VEVENT
DTSTART;TZID=Europe/Madrid:20090501T100000
DTEND;TZID=Europe/Madrid:20090831T190000
DTSTAMP:20260422T095959
CREATED:20181129T123346Z
LAST-MODIFIED:20190709T171407Z
UID:453-1241172000-1251745200@www.museosiderurgiamineriacyl.es
SUMMARY:Exposición: LIBRO MAYOR DE CONTABILIDAD DE  LA FERRERÍA DE SAN BLAS
DESCRIPTION:[vc_row][vc_column][vc_gallery interval=”3″ images=”455\,456\,457″ img_size=”full”][vc_row_inner][vc_column_inner width=”1/2″][vc_btn title=”Hoja de información” color=”sandy-brown” i_icon_fontawesome=”fa fa-download” add_icon=”true” link=”url:%2Fwp-content%2Fuploads%2F2018%2F11%2Fdossiercontabilidad.pdf||target:%20_blank|”][/vc_column_inner][vc_column_inner width=”1/2″][vc_btn title=”Cartel de la exposición” color=”sandy-brown” i_icon_fontawesome=”fa fa-download” add_icon=”true” link=”url:%2Fwp-content%2Fuploads%2F2018%2F11%2Fcartelcontabilidad.pdf||target:%20_blank|”][/vc_column_inner][/vc_row_inner][/vc_column][/vc_row]
URL:https://www.museosiderurgiamineriacyl.es/evento/libro-mayor-de-contabilidad-de-la-ferreria-de-san-blas/
LOCATION:Museo de la Siderurgia y la Minería de Castilla y León\, Plaza San Blas\, 1\, Sabero\, León\, 24810\, España
CATEGORIES:Exposiciones
ATTACH;FMTTYPE=image/jpeg:https://www.museosiderurgiamineriacyl.es/wp-content/uploads/2018/11/el-libro-mayor-de-contabilidad.jpg
END:VEVENT
BEGIN:VEVENT
DTSTART;TZID=Europe/Madrid:20081201T090000
DTEND;TZID=Europe/Madrid:20090930T190000
DTSTAMP:20260422T095959
CREATED:20181129T121358Z
LAST-MODIFIED:20190709T171416Z
UID:432-1228122000-1254337200@www.museosiderurgiamineriacyl.es
SUMMARY:Exposición: EL BELÉN ANTONOVICH DE LA MONTAÑA
DESCRIPTION:[vc_row][vc_column][vc_gallery interval=”3″ images=”433\,434\,435\,436\,437\,438″ img_size=”full”][vc_row_inner][vc_column_inner width=”1/2″][vc_btn title=”Hoja de información” color=”sandy-brown” i_icon_fontawesome=”fa fa-download” add_icon=”true” link=”url:%2Fwp-content%2Fuploads%2F2018%2F11%2FBelen.pdf||target:%20_blank|”][/vc_column_inner][vc_column_inner width=”1/2″][vc_btn title=”Folleto de la exposición” color=”sandy-brown” i_icon_fontawesome=”fa fa-download” add_icon=”true” link=”url:%2Fwp-content%2Fuploads%2F2018%2F11%2Ftarjetonbelengeneral.pdf||target:%20_blank|”][/vc_column_inner][/vc_row_inner][/vc_column][/vc_row]
URL:https://www.museosiderurgiamineriacyl.es/evento/el-belen-antonovich-de-la-montana/
LOCATION:Museo de la Siderurgia y la Minería de Castilla y León\, Plaza San Blas\, 1\, Sabero\, León\, 24810\, España
CATEGORIES:Exposiciones
ATTACH;FMTTYPE=image/jpeg:https://www.museosiderurgiamineriacyl.es/wp-content/uploads/2018/11/belen.jpg
END:VEVENT
BEGIN:VEVENT
DTSTART;TZID=Europe/Madrid:20081201T090000
DTEND;TZID=Europe/Madrid:20090228T180000
DTSTAMP:20260422T095959
CREATED:20181129T122858Z
LAST-MODIFIED:20190709T171434Z
UID:446-1228122000-1235844000@www.museosiderurgiamineriacyl.es
SUMMARY:Exposición: TECNOLOGÍA TRADICIONAL
DESCRIPTION:[vc_row][vc_column][vc_gallery interval=”3″ images=”448\,449\,450\,451″ img_size=”full”][vc_row_inner][vc_column_inner][vc_btn title=”Hoja de información” color=”sandy-brown” align=”center” i_icon_fontawesome=”fa fa-download” add_icon=”true” link=”url:%2Fwp-content%2Fuploads%2F2018%2F11%2Ftecnologia.pdf||target:%20_blank|”][/vc_column_inner][/vc_row_inner][/vc_column][/vc_row]
URL:https://www.museosiderurgiamineriacyl.es/evento/tecnologia-tradicional/
LOCATION:Museo de la Siderurgia y la Minería de Castilla y León\, Plaza San Blas\, 1\, Sabero\, León\, 24810\, España
CATEGORIES:Exposiciones
ATTACH;FMTTYPE=image/jpeg:https://www.museosiderurgiamineriacyl.es/wp-content/uploads/2018/11/TECNOLOGIA-TRADICIONAL.jpg
END:VEVENT
BEGIN:VEVENT
DTSTART;TZID=Europe/Madrid:20080801T220000
DTEND;TZID=Europe/Madrid:20080928T220000
DTSTAMP:20260422T095959
CREATED:20181129T104952Z
LAST-MODIFIED:20190709T171446Z
UID:401-1217628000-1222639200@www.museosiderurgiamineriacyl.es
SUMMARY:Exposición: Paisajes. En torno a la colección de MUSAC.
DESCRIPTION:[vc_row][vc_column][vc_gallery interval=”3″ images=”405\,404\,403\,402″ img_size=”full”][vc_row_inner][vc_column_inner width=”1/2″][vc_btn title=”Hoja de información” color=”sandy-brown” i_icon_fontawesome=”fa fa-download” add_icon=”true” link=”url:%2Fwp-content%2Fuploads%2F2018%2F11%2FPaisajes.pdf||target:%20_blank|”][/vc_column_inner][vc_column_inner width=”1/2″][vc_btn title=”Cartel de la exposición” color=”sandy-brown” i_icon_fontawesome=”fa fa-download” add_icon=”true” link=”url:%2Fwp-content%2Fuploads%2F2018%2F11%2Fcartel_Sabero-paisajes.pdf||target:%20_blank|”][/vc_column_inner][/vc_row_inner][/vc_column][/vc_row]
URL:https://www.museosiderurgiamineriacyl.es/evento/paisajes-en-torno-a-la-coleccion-de-musac/
LOCATION:Museo de la Siderurgia y la Minería de Castilla y León\, Plaza San Blas\, 1\, Sabero\, León\, 24810\, España
CATEGORIES:Exposiciones
ATTACH;FMTTYPE=image/jpeg:https://www.museosiderurgiamineriacyl.es/wp-content/uploads/2018/11/cartel_Sabero-paisajes.jpg
END:VEVENT
END:VCALENDAR