BEGIN:VCALENDAR
VERSION:2.0
PRODID:-//Museo siderurgia y minería de Castilla y León - ECPv6.15.5//NONSGML v1.0//EN
CALSCALE:GREGORIAN
METHOD:PUBLISH
X-ORIGINAL-URL:https://www.museosiderurgiamineriacyl.es
X-WR-CALDESC:Eventos para Museo siderurgia y minería de Castilla y León
REFRESH-INTERVAL;VALUE=DURATION:PT1H
X-Robots-Tag:noindex
X-PUBLISHED-TTL:PT1H
BEGIN:VTIMEZONE
TZID:Europe/Madrid
BEGIN:DAYLIGHT
TZOFFSETFROM:+0100
TZOFFSETTO:+0200
TZNAME:CEST
DTSTART:20190331T010000
END:DAYLIGHT
BEGIN:STANDARD
TZOFFSETFROM:+0200
TZOFFSETTO:+0100
TZNAME:CET
DTSTART:20191027T010000
END:STANDARD
BEGIN:DAYLIGHT
TZOFFSETFROM:+0100
TZOFFSETTO:+0200
TZNAME:CEST
DTSTART:20200329T010000
END:DAYLIGHT
BEGIN:STANDARD
TZOFFSETFROM:+0200
TZOFFSETTO:+0100
TZNAME:CET
DTSTART:20201025T010000
END:STANDARD
BEGIN:DAYLIGHT
TZOFFSETFROM:+0100
TZOFFSETTO:+0200
TZNAME:CEST
DTSTART:20210328T010000
END:DAYLIGHT
BEGIN:STANDARD
TZOFFSETFROM:+0200
TZOFFSETTO:+0100
TZNAME:CET
DTSTART:20211031T010000
END:STANDARD
BEGIN:DAYLIGHT
TZOFFSETFROM:+0100
TZOFFSETTO:+0200
TZNAME:CEST
DTSTART:20220327T010000
END:DAYLIGHT
BEGIN:STANDARD
TZOFFSETFROM:+0200
TZOFFSETTO:+0100
TZNAME:CET
DTSTART:20221030T010000
END:STANDARD
BEGIN:DAYLIGHT
TZOFFSETFROM:+0100
TZOFFSETTO:+0200
TZNAME:CEST
DTSTART:20230326T010000
END:DAYLIGHT
BEGIN:STANDARD
TZOFFSETFROM:+0200
TZOFFSETTO:+0100
TZNAME:CET
DTSTART:20231029T010000
END:STANDARD
BEGIN:DAYLIGHT
TZOFFSETFROM:+0100
TZOFFSETTO:+0200
TZNAME:CEST
DTSTART:20240331T010000
END:DAYLIGHT
BEGIN:STANDARD
TZOFFSETFROM:+0200
TZOFFSETTO:+0100
TZNAME:CET
DTSTART:20241027T010000
END:STANDARD
BEGIN:DAYLIGHT
TZOFFSETFROM:+0100
TZOFFSETTO:+0200
TZNAME:CEST
DTSTART:20250330T010000
END:DAYLIGHT
BEGIN:STANDARD
TZOFFSETFROM:+0200
TZOFFSETTO:+0100
TZNAME:CET
DTSTART:20251026T010000
END:STANDARD
END:VTIMEZONE
BEGIN:VEVENT
DTSTART;VALUE=DATE:20250201
DTEND;VALUE=DATE:20250301
DTSTAMP:20260421T123140
CREATED:20250128T153900Z
LAST-MODIFIED:20250128T154444Z
UID:5456-1738368000-1740787199@www.museosiderurgiamineriacyl.es
SUMMARY:LIBRO DEL MES
DESCRIPTION:
URL:https://www.museosiderurgiamineriacyl.es/evento/libro-del-mes-7/
LOCATION:Museo de la Siderurgia y la Minería de Castilla y León\, Plaza San Blas\, 1\, Sabero\, León\, 24810\, España
CATEGORIES:LIBRO DEL MES
ATTACH;FMTTYPE=image/jpeg:https://www.museosiderurgiamineriacyl.es/wp-content/uploads/2025/01/libro-web.jpg
END:VEVENT
BEGIN:VEVENT
DTSTART;VALUE=DATE:20211203
DTEND;VALUE=DATE:20220302
DTSTAMP:20260421T123140
CREATED:20211215T100907Z
LAST-MODIFIED:20220301T085525Z
UID:3754-1638493200-1646096399@www.museosiderurgiamineriacyl.es
SUMMARY:EXPOSICIÓN TEMPORAL: "MAQUETAS Y MODELOS DE LA ESCUELA TÉCNICA SUPERIOR DE INGENIEROS DE MINAS Y ENERGÍA".
DESCRIPTION:[vc_row][vc_column][vc_gallery type=”image_grid” images=”3756\,3757\,3758\,3759\,3760\,3761\,3765″][vc_row_inner][vc_column_inner width=”1/2″][vc_btn title=”Nota de prensa” color=”sandy-brown” i_icon_fontawesome=”” add_icon=”true” link=”url:%2Fwp-content%2Fuploads%2F2021%2F12%2F20211201-NP-MSM-APERTURA-DE-LA-EXPOSICION-TEMPORAL-MAQUETAS-ESCUELA-DE-MINAS-DE-MADRID.pdf|target:_blank”][/vc_column_inner][vc_column_inner width=”1/2″][/vc_column_inner][/vc_row_inner][vc_empty_space][/vc_column][/vc_row]
URL:https://www.museosiderurgiamineriacyl.es/evento/exposicion-temporal-maquetas/
LOCATION:Museo de la Siderurgia y la Minería de Castilla y León\, Plaza San Blas\, 1\, Sabero\, León\, 24810\, España
CATEGORIES:Exposiciones
ATTACH;FMTTYPE=image/jpeg:https://www.museosiderurgiamineriacyl.es/wp-content/uploads/2021/12/Maquetas-historicas-de-la-ETSIME.jpg
END:VEVENT
BEGIN:VEVENT
DTSTART;TZID=Europe/Madrid:20201121T130000
DTEND;TZID=Europe/Madrid:20201121T150000
DTSTAMP:20260421T123140
CREATED:20201117T153537Z
LAST-MODIFIED:20201117T153558Z
UID:3061-1605963600-1605970800@www.museosiderurgiamineriacyl.es
SUMMARY:VISITAS GUIADAS
DESCRIPTION:
URL:https://www.museosiderurgiamineriacyl.es/evento/visitas-guiadas/
LOCATION:Museo de la Siderurgia y la Minería de Castilla y León\, Plaza San Blas\, 1\, Sabero\, León\, 24810\, España
END:VEVENT
BEGIN:VEVENT
DTSTART;VALUE=DATE:20201101
DTEND;VALUE=DATE:20201107
DTSTAMP:20260421T123140
CREATED:20201117T190138Z
LAST-MODIFIED:20201123T103941Z
UID:3065-1604192400-1604624399@www.museosiderurgiamineriacyl.es
SUMMARY:Visita guiada a la excavación arqueóloga del horno alto de la ferrería de san blas
DESCRIPTION:
URL:https://www.museosiderurgiamineriacyl.es/evento/visita-guiada-a-la-excavacion-arqueologa-del-horno-alto-de-la-ferreria-de-san-blas/
LOCATION:Museo de la Siderurgia y la Minería de Castilla y León\, Plaza San Blas\, 1\, Sabero\, León\, 24810\, España
CATEGORIES:Actividades
ATTACH;FMTTYPE=image/jpeg:https://www.museosiderurgiamineriacyl.es/wp-content/uploads/2020/11/Visita-excavacion-arqueologica-para-web.jpg
END:VEVENT
BEGIN:VEVENT
DTSTART;TZID=Europe/Madrid:20200724T000000
DTEND;TZID=Europe/Madrid:20200724T000000
DTSTAMP:20260421T123140
CREATED:20200722T071005Z
LAST-MODIFIED:20200722T071017Z
UID:2802-1595548800-1595548800@www.museosiderurgiamineriacyl.es
SUMMARY:MSM EN FAMILIA
DESCRIPTION:
URL:https://www.museosiderurgiamineriacyl.es/evento/msm-en-familia/
LOCATION:Museo de la Siderurgia y la Minería de Castilla y León\, Plaza San Blas\, 1\, Sabero\, León\, 24810\, España
ATTACH;FMTTYPE=image/jpeg:https://www.museosiderurgiamineriacyl.es/wp-content/uploads/2020/07/Chan-Tun-Mago-MadMartin-scaled.jpg
END:VEVENT
BEGIN:VEVENT
DTSTART;TZID=Europe/Madrid:20200307T010000
DTEND;TZID=Europe/Madrid:20200307T020000
DTSTAMP:20260421T123140
CREATED:20200304T090421Z
LAST-MODIFIED:20200304T090421Z
UID:2507-1583542800-1583546400@www.museosiderurgiamineriacyl.es
SUMMARY:MSM FORMACIÓN: SEMINARIO: POBLADOS MINEROS
DESCRIPTION:
URL:https://www.museosiderurgiamineriacyl.es/evento/msm-formacion-seminario-poblados-mineros-2/
LOCATION:Museo de la Siderurgia y la Minería de Castilla y León\, Plaza San Blas\, 1\, Sabero\, León\, 24810\, España
CATEGORIES:FORMACIÓN
ATTACH;FMTTYPE=image/jpeg:https://www.museosiderurgiamineriacyl.es/wp-content/uploads/2020/03/Poblados-mineros-marzo-WEB.jpg
END:VEVENT
BEGIN:VEVENT
DTSTART;TZID=Europe/Madrid:20200305T180000
DTEND;TZID=Europe/Madrid:20200305T190000
DTSTAMP:20260421T123140
CREATED:20200304T090932Z
LAST-MODIFIED:20200304T090932Z
UID:2510-1583431200-1583434800@www.museosiderurgiamineriacyl.es
SUMMARY:MSM FORMACIÓN: ANATOMÍA DEL MINERO: EL SISTEMA MUSCULAR.
DESCRIPTION:
URL:https://www.museosiderurgiamineriacyl.es/evento/msm-formacion-anatomia-del-minero-el-sistema-muscular/
LOCATION:Museo de la Siderurgia y la Minería de Castilla y León\, Plaza San Blas\, 1\, Sabero\, León\, 24810\, España
CATEGORIES:FORMACIÓN
ATTACH;FMTTYPE=image/jpeg:https://www.museosiderurgiamineriacyl.es/wp-content/uploads/2020/03/Anatomia-del-minero-marzo-WEB.jpg
END:VEVENT
BEGIN:VEVENT
DTSTART;TZID=Europe/Madrid:20200229T190000
DTEND;TZID=Europe/Madrid:20200229T200000
DTSTAMP:20260421T123140
CREATED:20200222T112348Z
LAST-MODIFIED:20200222T112524Z
UID:2502-1583002800-1583006400@www.museosiderurgiamineriacyl.es
SUMMARY:CICLO DE CONFERENCIAS: "LA MINERÍA A TRAVES DE LOS SELLOS".
DESCRIPTION:
URL:https://www.museosiderurgiamineriacyl.es/evento/ciclo-de-conferencias-la-mineria-a-traves-de-los-sellos/
LOCATION:Museo de la Siderurgia y la Minería de Castilla y León\, Plaza San Blas\, 1\, Sabero\, León\, 24810\, España
CATEGORIES:CICLO DE CONFERENCIAS
ATTACH;FMTTYPE=image/jpeg:https://www.museosiderurgiamineriacyl.es/wp-content/uploads/2020/02/La-mineria-a-través-de-los-sellos-WEB.jpg
END:VEVENT
BEGIN:VEVENT
DTSTART;TZID=Europe/Madrid:20200229T183000
DTEND;TZID=Europe/Madrid:20200930T200000
DTSTAMP:20260421T123140
CREATED:20200222T111734Z
LAST-MODIFIED:20200902T101028Z
UID:2499-1583001000-1601496000@www.museosiderurgiamineriacyl.es
SUMMARY:EXPOSICIÓN TEMPORAL: "FILATELIA MINERA".
DESCRIPTION:[vc_row][vc_column][vc_gallery type=”image_grid” images=”2543\,2544\,2545\,2546\,2547\,2548\,2549\,2550\,2551\,2552\,2553\,2554\,2555″][vc_row_inner][vc_column_inner][vc_btn title=”Nota de prensa” color=”sandy-brown” align=”center” i_icon_fontawesome=”fa fa-download” add_icon=”true” link=”url:https%3A%2F%2Fwww.museosiderurgiamineriacyl.es%2Fwp-content%2Fuploads%2F2020%2F04%2FMSM-NOTA-DE-PRENSA-FILATELIA-MINERA.pdf||target:%20_blank|”][/vc_column_inner][/vc_row_inner][vc_empty_space][/vc_column][/vc_row]
URL:https://www.museosiderurgiamineriacyl.es/evento/exposicion-temporal-filatelia-minera/
LOCATION:Museo de la Siderurgia y la Minería de Castilla y León\, Plaza San Blas\, 1\, Sabero\, León\, 24810\, España
CATEGORIES:Exposiciones
ATTACH;FMTTYPE=image/jpeg:https://www.museosiderurgiamineriacyl.es/wp-content/uploads/2020/02/Filatelia-minera-WEB.jpg
END:VEVENT
BEGIN:VEVENT
DTSTART;TZID=Europe/Madrid:20200220T060000
DTEND;TZID=Europe/Madrid:20200220T070000
DTSTAMP:20260421T123140
CREATED:20200212T091109Z
LAST-MODIFIED:20200212T091153Z
UID:2492-1582178400-1582182000@www.museosiderurgiamineriacyl.es
SUMMARY:MSM FORMACIÓN: SEMINARIO ANATOMÍA DEL MINERO: "EL SISTEMA RESPIRATORIO"
DESCRIPTION:
URL:https://www.museosiderurgiamineriacyl.es/evento/msm-formacion-seminario-anatomia-del-minero-el-sistema-respiratorio/
LOCATION:Museo de la Siderurgia y la Minería de Castilla y León\, Plaza San Blas\, 1\, Sabero\, León\, 24810\, España
CATEGORIES:FORMACIÓN
ATTACH;FMTTYPE=image/jpeg:https://www.museosiderurgiamineriacyl.es/wp-content/uploads/2020/02/Anatomia-del-minero-febrero-WEB.jpg
END:VEVENT
BEGIN:VEVENT
DTSTART;TZID=Europe/Madrid:20200215T130000
DTEND;TZID=Europe/Madrid:20200215T140000
DTSTAMP:20260421T123140
CREATED:20200124T163029Z
LAST-MODIFIED:20200424T144636Z
UID:2488-1581771600-1581775200@www.museosiderurgiamineriacyl.es
SUMMARY:MSM FORMACION - SEMINARIO POBLADOS MINEROS
DESCRIPTION:[vc_row][vc_column][vc_gallery type=”image_grid” images=”2489″][vc_row_inner][vc_column_inner width=”1/2″][vc_btn title=”Hoja de información” color=”sandy-brown” i_icon_fontawesome=”fa fa-download” add_icon=”true” link=”url:%2Fwp-content%2Fuploads%2F2018%2F11%2FPaisajes.pdf||target:%20_blank|”][/vc_column_inner][vc_column_inner width=”1/2″][vc_btn title=”Cartel de la exposición” color=”sandy-brown” i_icon_fontawesome=”fa fa-download” add_icon=”true” link=”url:%2Fwp-content%2Fuploads%2F2018%2F11%2Fcartel_Sabero-paisajes.pdf||target:%20_blank|”][/vc_column_inner][/vc_row_inner][vc_empty_space][/vc_column][/vc_row]
URL:https://www.museosiderurgiamineriacyl.es/evento/msm-formacion-seminario-poblados-mineros/
LOCATION:Museo de la Siderurgia y la Minería de Castilla y León\, Plaza San Blas\, 1\, Sabero\, León\, 24810\, España
CATEGORIES:FORMACIÓN
ATTACH;FMTTYPE=image/jpeg:https://www.museosiderurgiamineriacyl.es/wp-content/uploads/2020/01/Poblados-mineros-febrero-WEB.jpg
END:VEVENT
BEGIN:VEVENT
DTSTART;TZID=Europe/Madrid:20200214T193000
DTEND;TZID=Europe/Madrid:20200214T203000
DTSTAMP:20260421T123140
CREATED:20200124T144045Z
LAST-MODIFIED:20200424T144550Z
UID:2485-1581708600-1581712200@www.museosiderurgiamineriacyl.es
SUMMARY:CICLO DE CINE - LA MINA EN CORTO
DESCRIPTION:[vc_row][vc_column][vc_gallery type=”image_grid” images=”2486″][vc_row_inner][vc_column_inner width=”1/2″][vc_btn title=”Hoja de información” color=”sandy-brown” i_icon_fontawesome=”fa fa-download” add_icon=”true” link=”url:%2Fwp-content%2Fuploads%2F2018%2F11%2FPaisajes.pdf||target:%20_blank|”][/vc_column_inner][vc_column_inner width=”1/2″][vc_btn title=”Cartel de la exposición” color=”sandy-brown” i_icon_fontawesome=”fa fa-download” add_icon=”true” link=”url:%2Fwp-content%2Fuploads%2F2018%2F11%2Fcartel_Sabero-paisajes.pdf||target:%20_blank|”][/vc_column_inner][vc_column_inner][/vc_column_inner][/vc_row_inner][vc_empty_space][/vc_column][/vc_row]
URL:https://www.museosiderurgiamineriacyl.es/evento/ciclo-de-cine-la-mina-en-corto-2/
LOCATION:Museo de la Siderurgia y la Minería de Castilla y León\, Plaza San Blas\, 1\, Sabero\, León\, 24810\, España
CATEGORIES:CICLO DE CINE DOCUMENTAL
ATTACH;FMTTYPE=image/jpeg:https://www.museosiderurgiamineriacyl.es/wp-content/uploads/2020/01/Ciclo-de-cine-La-mina-en-corto-febrero-WEB.jpg
END:VEVENT
BEGIN:VEVENT
DTSTART;TZID=Europe/Madrid:20200214T070000
DTEND;TZID=Europe/Madrid:20200214T193000
DTSTAMP:20260421T123140
CREATED:20200212T091443Z
LAST-MODIFIED:20200212T093514Z
UID:2495-1581663600-1581708600@www.museosiderurgiamineriacyl.es
SUMMARY:PRESENTACIÓN PIEZA DEL MES: "MATERIAL DE LABORATORIO"
DESCRIPTION:
URL:https://www.museosiderurgiamineriacyl.es/evento/presentacion-pieza-del-mes-material-de-laboratorio/
LOCATION:Museo de la Siderurgia y la Minería de Castilla y León\, Plaza San Blas\, 1\, Sabero\, León\, 24810\, España
CATEGORIES:LAS PIEZAS SUENAN
ATTACH;FMTTYPE=image/jpeg:https://www.museosiderurgiamineriacyl.es/wp-content/uploads/2020/02/Las-piezas-suenan-febrero-WEB.jpg
END:VEVENT
BEGIN:VEVENT
DTSTART;TZID=Europe/Madrid:20200201T200000
DTEND;TZID=Europe/Madrid:20200201T213000
DTSTAMP:20260421T123140
CREATED:20200124T143626Z
LAST-MODIFIED:20200124T143631Z
UID:2479-1580587200-1580592600@www.museosiderurgiamineriacyl.es
SUMMARY:CONCIERTO FESTIVIDAD DE SAN BLAS
DESCRIPTION:[vc_row][vc_column][vc_gallery type=”image_grid” images=”2480″][vc_row_inner][vc_column_inner width=”1/2″][vc_btn title=”Hoja de información” color=”sandy-brown” i_icon_fontawesome=”fa fa-download” add_icon=”true” link=”url:%2Fwp-content%2Fuploads%2F2018%2F11%2FPaisajes.pdf||target:%20_blank|”][/vc_column_inner][vc_column_inner width=”1/2″][vc_btn title=”Cartel de la exposición” color=”sandy-brown” i_icon_fontawesome=”fa fa-download” add_icon=”true” link=”url:%2Fwp-content%2Fuploads%2F2018%2F11%2Fcartel_Sabero-paisajes.pdf||target:%20_blank|”][/vc_column_inner][/vc_row_inner][vc_empty_space][/vc_column][/vc_row]
URL:https://www.museosiderurgiamineriacyl.es/evento/concierto-festividad-de-san-blas/
LOCATION:Museo de la Siderurgia y la Minería de Castilla y León\, Plaza San Blas\, 1\, Sabero\, León\, 24810\, España
ATTACH;FMTTYPE=image/jpeg:https://www.museosiderurgiamineriacyl.es/wp-content/uploads/2020/01/Festividad-de-San-Blas-WEB.jpg
END:VEVENT
BEGIN:VEVENT
DTSTART;TZID=Europe/Madrid:20200201T130000
DTEND;TZID=Europe/Madrid:20200201T143000
DTSTAMP:20260421T123140
CREATED:20200124T143307Z
LAST-MODIFIED:20200420T085934Z
UID:2476-1580562000-1580567400@www.museosiderurgiamineriacyl.es
SUMMARY:MSM FORMACION - SABOR A MINA
DESCRIPTION:
URL:https://www.museosiderurgiamineriacyl.es/evento/msm-formacion-sabor-a-mina-2/
LOCATION:Museo de la Siderurgia y la Minería de Castilla y León\, Plaza San Blas\, 1\, Sabero\, León\, 24810\, España
ATTACH;FMTTYPE=image/jpeg:https://www.museosiderurgiamineriacyl.es/wp-content/uploads/2020/01/Sabor-a-mina-sesión-de-febrero-WEB.jpg
END:VEVENT
BEGIN:VEVENT
DTSTART;TZID=Europe/Madrid:20200126T100000
DTEND;TZID=Europe/Madrid:20200126T200000
DTSTAMP:20260421T123140
CREATED:20200115T085720Z
LAST-MODIFIED:20200115T085720Z
UID:2463-1580032800-1580068800@www.museosiderurgiamineriacyl.es
SUMMARY:MSM ACTIVO. VISITA AL MUSEO DE LA SIDERURGIA DE ASTURIAS Y AL PATRIMONIO INDUSTRIAL DE LANGREO.
DESCRIPTION:
URL:https://www.museosiderurgiamineriacyl.es/evento/msm-activo-visita-al-museo-de-la-siderurgia-de-asturias-y-al-patrimonio-industrial-de-langreo/
LOCATION:Museo de la Siderurgia y la Minería de Castilla y León\, Plaza San Blas\, 1\, Sabero\, León\, 24810\, España
CATEGORIES:MSM ACTIVO
ATTACH;FMTTYPE=image/jpeg:https://www.museosiderurgiamineriacyl.es/wp-content/uploads/2020/01/Visita-al-MUSI-WEB-1.jpg
END:VEVENT
BEGIN:VEVENT
DTSTART;TZID=Europe/Madrid:20200125T070000
DTEND;TZID=Europe/Madrid:20200125T200000
DTSTAMP:20260421T123140
CREATED:20200115T085444Z
LAST-MODIFIED:20200115T085444Z
UID:2460-1579935600-1579982400@www.museosiderurgiamineriacyl.es
SUMMARY:CICLO DE CONFERENCIAS: DE BÁRBARA A SANTA BÁRBARA. PATRONA DE LA MINERÍA.
DESCRIPTION:
URL:https://www.museosiderurgiamineriacyl.es/evento/ciclo-de-conferencias-de-barbara-a-santa-barbara-patrona-de-la-mineria/
LOCATION:Museo de la Siderurgia y la Minería de Castilla y León\, Plaza San Blas\, 1\, Sabero\, León\, 24810\, España
CATEGORIES:CICLO DE CONFERENCIAS
ATTACH;FMTTYPE=image/jpeg:https://www.museosiderurgiamineriacyl.es/wp-content/uploads/2020/01/De-Bárbara-a-Santa-Bárbara-WEB.jpg
END:VEVENT
BEGIN:VEVENT
DTSTART;TZID=Europe/Madrid:20200118T120000
DTEND;TZID=Europe/Madrid:20200118T120000
DTSTAMP:20260421T123140
CREATED:20200113T082025Z
LAST-MODIFIED:20200113T082519Z
UID:2454-1579348800-1579348800@www.museosiderurgiamineriacyl.es
SUMMARY:¡¡¡CIENCIA DIVERTIDA!!!. LABORATORIO MÓVIL: "REACCIONES QUÍMICAS\, LOS LÍQUIDOS QUE CAMBIAN DE COLOR".
DESCRIPTION:
URL:https://www.museosiderurgiamineriacyl.es/evento/ciencia-divertida-laboratorio-movil-reacciones-quimicas-los-liquidos-que-cambian-de-color/
LOCATION:Museo de la Siderurgia y la Minería de Castilla y León\, Plaza San Blas\, 1\, Sabero\, León\, 24810\, España
CATEGORIES:GUAJE MSM
ATTACH;FMTTYPE=image/jpeg:https://www.museosiderurgiamineriacyl.es/wp-content/uploads/2020/01/Ciencia-divertidaCCCC-enero.jpg
END:VEVENT
BEGIN:VEVENT
DTSTART;TZID=Europe/Madrid:20200116T060000
DTEND;TZID=Europe/Madrid:20200116T190000
DTSTAMP:20260421T123140
CREATED:20200113T081420Z
LAST-MODIFIED:20200113T081431Z
UID:2448-1579154400-1579201200@www.museosiderurgiamineriacyl.es
SUMMARY:MSM FORMACIÓN: "ANATOMÍA DEL MINERO: EL SISTEMA ÓSEO".
DESCRIPTION:
URL:https://www.museosiderurgiamineriacyl.es/evento/msm-formacion-anatomia-del-minero-el-sistema-oseo/
LOCATION:Museo de la Siderurgia y la Minería de Castilla y León\, Plaza San Blas\, 1\, Sabero\, León\, 24810\, España
CATEGORIES:FORMACIÓN
ATTACH;FMTTYPE=image/jpeg:https://www.museosiderurgiamineriacyl.es/wp-content/uploads/2020/01/Anatomia-del-mineroCCCCCCCCCCCC-enero.jpg
END:VEVENT
BEGIN:VEVENT
DTSTART;TZID=Europe/Madrid:20200111T010000
DTEND;TZID=Europe/Madrid:20200111T140000
DTSTAMP:20260421T123140
CREATED:20200108T105718Z
LAST-MODIFIED:20200420T085902Z
UID:2445-1578704400-1578751200@www.museosiderurgiamineriacyl.es
SUMMARY:MSM FORMACIÓN: SABOR A MINA.
DESCRIPTION:
URL:https://www.museosiderurgiamineriacyl.es/evento/msm-formacion-sabor-a-mina/
LOCATION:Museo de la Siderurgia y la Minería de Castilla y León\, Plaza San Blas\, 1\, Sabero\, León\, 24810\, España
CATEGORIES:FORMACIÓN
ATTACH;FMTTYPE=image/jpeg:https://www.museosiderurgiamineriacyl.es/wp-content/uploads/2020/01/Sabor-a-mina-Sesión-enero.jpg
END:VEVENT
BEGIN:VEVENT
DTSTART;TZID=Europe/Madrid:20200110T193000
DTEND;TZID=Europe/Madrid:20200110T203000
DTSTAMP:20260421T123140
CREATED:20200108T103828Z
LAST-MODIFIED:20200108T103828Z
UID:2439-1578684600-1578688200@www.museosiderurgiamineriacyl.es
SUMMARY:CICLO DE CINE: "LA MINA EN CORTO"
DESCRIPTION:
URL:https://www.museosiderurgiamineriacyl.es/evento/ciclo-de-cine-la-mina-en-corto/
LOCATION:Museo de la Siderurgia y la Minería de Castilla y León\, Plaza San Blas\, 1\, Sabero\, León\, 24810\, España
CATEGORIES:CICLO DE CINE DOCUMENTAL
ATTACH;FMTTYPE=image/jpeg:https://www.museosiderurgiamineriacyl.es/wp-content/uploads/2020/01/Ciclo-de-cine-La-mina-en-corto-enero.jpg
END:VEVENT
BEGIN:VEVENT
DTSTART;TZID=Europe/Madrid:20200110T190000
DTEND;TZID=Europe/Madrid:20200110T200000
DTSTAMP:20260421T123140
CREATED:20200108T104340Z
LAST-MODIFIED:20200108T104340Z
UID:2442-1578682800-1578686400@www.museosiderurgiamineriacyl.es
SUMMARY:LAS PIEZAS SUENAN. PIEZA DEL MES: EXPLOSOR.
DESCRIPTION:
URL:https://www.museosiderurgiamineriacyl.es/evento/las-piezas-suenan-pieza-del-mes-explosor/
LOCATION:Museo de la Siderurgia y la Minería de Castilla y León\, Plaza San Blas\, 1\, Sabero\, León\, 24810\, España
CATEGORIES:LAS PIEZAS SUENAN
ATTACH;FMTTYPE=image/jpeg:https://www.museosiderurgiamineriacyl.es/wp-content/uploads/2020/01/Pieza-del-mes-enero-explosor.jpg
END:VEVENT
BEGIN:VEVENT
DTSTART;TZID=Europe/Madrid:20191228T200000
DTEND;TZID=Europe/Madrid:20191228T220000
DTSTAMP:20260421T123140
CREATED:20191205T122939Z
LAST-MODIFIED:20191205T123228Z
UID:2417-1577563200-1577570400@www.museosiderurgiamineriacyl.es
SUMMARY:CONCIERTO DE FLAMENCO: MATIAS LÓPEZ "EL MATI". GANADOR DE LA LÁMPARA MINERA 2019
DESCRIPTION:
URL:https://www.museosiderurgiamineriacyl.es/evento/concierto-de-flamenco-matias-lopez-el-mati-ganador-de-la-lampara-minera-2019/
LOCATION:Museo de la Siderurgia y la Minería de Castilla y León\, Plaza San Blas\, 1\, Sabero\, León\, 24810\, España
ATTACH;FMTTYPE=image/jpeg:https://www.museosiderurgiamineriacyl.es/wp-content/uploads/2019/12/EL-MATI-para-web.jpg
END:VEVENT
BEGIN:VEVENT
DTSTART;TZID=Europe/Madrid:20191226T120000
DTEND;TZID=Europe/Madrid:20191228T140000
DTSTAMP:20260421T123140
CREATED:20191205T122732Z
LAST-MODIFIED:20191205T122732Z
UID:2414-1577361600-1577541600@www.museosiderurgiamineriacyl.es
SUMMARY:TALLER INFANTIL: DIVERNAVIDAD
DESCRIPTION:
URL:https://www.museosiderurgiamineriacyl.es/evento/taller-infantil-divernavidad/
LOCATION:Museo de la Siderurgia y la Minería de Castilla y León\, Plaza San Blas\, 1\, Sabero\, León\, 24810\, España
ATTACH;FMTTYPE=image/jpeg:https://www.museosiderurgiamineriacyl.es/wp-content/uploads/2019/12/Divernavidad-para-web.jpg
END:VEVENT
BEGIN:VEVENT
DTSTART;TZID=Europe/Madrid:20191222T090000
DTEND;TZID=Europe/Madrid:20200114T160000
DTSTAMP:20260421T123140
CREATED:20191222T153051Z
LAST-MODIFIED:20200114T122850Z
UID:2430-1577005200-1579017600@www.museosiderurgiamineriacyl.es
SUMMARY:EXPOSICIÓN TEMPORAL "LOS BELENES DE TERESITA"
DESCRIPTION:
URL:https://www.museosiderurgiamineriacyl.es/evento/exposicion-temporal-los-belenes-de-teresita/
LOCATION:Museo de la Siderurgia y la Minería de Castilla y León\, Plaza San Blas\, 1\, Sabero\, León\, 24810\, España
CATEGORIES:Exposiciones
ATTACH;FMTTYPE=image/jpeg:https://www.museosiderurgiamineriacyl.es/wp-content/uploads/2019/12/Belenes-2019-web.jpg
END:VEVENT
BEGIN:VEVENT
DTSTART;TZID=Europe/Madrid:20191201T110000
DTEND;TZID=Europe/Madrid:20191231T210000
DTSTAMP:20260421T123140
CREATED:20191205T122421Z
LAST-MODIFIED:20191205T122421Z
UID:2411-1575198000-1577826000@www.museosiderurgiamineriacyl.es
SUMMARY:LIBRO DEL MES: EL SILENCIO DEL GUARDIÁN. EJEMPLAR PRESTADO POR EL MUSEO.
DESCRIPTION:
URL:https://www.museosiderurgiamineriacyl.es/evento/libro-del-mes-el-silencio-del-guardian-ejemplar-prestado-por-el-museo/
LOCATION:Museo de la Siderurgia y la Minería de Castilla y León\, Plaza San Blas\, 1\, Sabero\, León\, 24810\, España
CATEGORIES:LIBRO DEL MES
ATTACH;FMTTYPE=image/jpeg:https://www.museosiderurgiamineriacyl.es/wp-content/uploads/2019/12/Libro-del-mes-de-diciembre-2019-para-web.jpg
END:VEVENT
BEGIN:VEVENT
DTSTART;TZID=Europe/Madrid:20191130T120000
DTEND;TZID=Europe/Madrid:20191130T150000
DTSTAMP:20260421T123140
CREATED:20191106T114739Z
LAST-MODIFIED:20191106T114749Z
UID:2391-1575115200-1575126000@www.museosiderurgiamineriacyl.es
SUMMARY:SÁBADOS DE ACCIÓN. ¡¡S.O.S.!! - STOP AL FUEGO. ENCUENTRO CON LOS BOMBEROS DE LEÓN.
DESCRIPTION:
URL:https://www.museosiderurgiamineriacyl.es/evento/sabados-de-accion-s-o-s-stop-al-fuego-encuentro-con-los-bomberos-de-leon/
LOCATION:Museo de la Siderurgia y la Minería de Castilla y León\, Plaza San Blas\, 1\, Sabero\, León\, 24810\, España
CATEGORIES:SÁBADOS DE ACCIÓN
ATTACH;FMTTYPE=image/jpeg:https://www.museosiderurgiamineriacyl.es/wp-content/uploads/2019/11/Sabados-de-accion-bomberos.jpg
END:VEVENT
BEGIN:VEVENT
DTSTART;TZID=Europe/Madrid:20191126T190000
DTEND;TZID=Europe/Madrid:20191126T200000
DTSTAMP:20260421T123140
CREATED:20191106T114506Z
LAST-MODIFIED:20191106T114506Z
UID:2388-1574794800-1574798400@www.museosiderurgiamineriacyl.es
SUMMARY:"ENCUENTROS CON MINEROS. GUARDAS JURADOS".
DESCRIPTION:
URL:https://www.museosiderurgiamineriacyl.es/evento/encuentros-con-mineros-guardas-jurados/
LOCATION:Museo de la Siderurgia y la Minería de Castilla y León\, Plaza San Blas\, 1\, Sabero\, León\, 24810\, España
CATEGORIES:FORMACIÓN
ATTACH;FMTTYPE=image/jpeg:https://www.museosiderurgiamineriacyl.es/wp-content/uploads/2019/11/Encuentros-con-mineros-Santa-Bárbara-para-web.jpg
END:VEVENT
BEGIN:VEVENT
DTSTART;TZID=Europe/Madrid:20191121T180000
DTEND;TZID=Europe/Madrid:20191121T190000
DTSTAMP:20260421T123140
CREATED:20191106T113317Z
LAST-MODIFIED:20191106T113347Z
UID:2385-1574359200-1574362800@www.museosiderurgiamineriacyl.es
SUMMARY:MSM SOCIAL. CHARLA INFORMATIVA "DONA EL CEREBRO"
DESCRIPTION:
URL:https://www.museosiderurgiamineriacyl.es/evento/msm-social-charla-informativa-dona-el-cerebro/
LOCATION:Museo de la Siderurgia y la Minería de Castilla y León\, Plaza San Blas\, 1\, Sabero\, León\, 24810\, España
ATTACH;FMTTYPE=image/jpeg:https://www.museosiderurgiamineriacyl.es/wp-content/uploads/2019/11/Alzheimer.jpg
END:VEVENT
BEGIN:VEVENT
DTSTART;TZID=Europe/Madrid:20191115T130000
DTEND;TZID=Europe/Madrid:20200223T203000
DTSTAMP:20260421T123140
CREATED:20191120T081322Z
LAST-MODIFIED:20200222T113401Z
UID:2407-1573822800-1582489800@www.museosiderurgiamineriacyl.es
SUMMARY:EXPOSICIÓN TEMPORAL: "LA MINA EN PLASTILINA II"
DESCRIPTION:
URL:https://www.museosiderurgiamineriacyl.es/evento/exposicion-temporal-la-mina-en-plastilina-ii/
LOCATION:Museo de la Siderurgia y la Minería de Castilla y León\, Plaza San Blas\, 1\, Sabero\, León\, 24810\, España
CATEGORIES:Exposiciones
ATTACH;FMTTYPE=image/jpeg:https://www.museosiderurgiamineriacyl.es/wp-content/uploads/2019/11/La-Mina-en-Plastilina-II-para-web.jpg
END:VEVENT
END:VCALENDAR