BEGIN:VCALENDAR
VERSION:2.0
PRODID:-//Museo siderurgia y minería de Castilla y León - ECPv6.15.5//NONSGML v1.0//EN
CALSCALE:GREGORIAN
METHOD:PUBLISH
X-WR-CALNAME:Museo siderurgia y minería de Castilla y León
X-ORIGINAL-URL:https://www.museosiderurgiamineriacyl.es
X-WR-CALDESC:Eventos para Museo siderurgia y minería de Castilla y León
REFRESH-INTERVAL;VALUE=DURATION:PT1H
X-Robots-Tag:noindex
X-PUBLISHED-TTL:PT1H
BEGIN:VTIMEZONE
TZID:Europe/Madrid
BEGIN:DAYLIGHT
TZOFFSETFROM:+0100
TZOFFSETTO:+0200
TZNAME:CEST
DTSTART:20250330T010000
END:DAYLIGHT
BEGIN:STANDARD
TZOFFSETFROM:+0200
TZOFFSETTO:+0100
TZNAME:CET
DTSTART:20251026T010000
END:STANDARD
END:VTIMEZONE
BEGIN:VEVENT
DTSTART;TZID=Europe/Madrid:20250401T100000
DTEND;TZID=Europe/Madrid:20250430T200000
DTSTAMP:20260423T072042
CREATED:20250403T105226Z
LAST-MODIFIED:20250403T105226Z
UID:5569-1743501600-1746043200@www.museosiderurgiamineriacyl.es
SUMMARY:LIBRO DEL MES - ABRIL
DESCRIPTION:
URL:https://www.museosiderurgiamineriacyl.es/evento/libro-del-mes-abril/
CATEGORIES:LIBRO DEL MES
ATTACH;FMTTYPE=image/jpeg:https://www.museosiderurgiamineriacyl.es/wp-content/uploads/2025/04/libro-web.jpg
END:VEVENT
BEGIN:VEVENT
DTSTART;TZID=Europe/Madrid:20250405T120000
DTEND;TZID=Europe/Madrid:20250405T133000
DTSTAMP:20260423T072042
CREATED:20250403T105501Z
LAST-MODIFIED:20250403T111510Z
UID:5575-1743854400-1743859800@www.museosiderurgiamineriacyl.es
SUMMARY:ASÍ FUNCIONA LA MINA - EXPLOSIVOS EN LA MINA
DESCRIPTION:
URL:https://www.museosiderurgiamineriacyl.es/evento/asi-funciona-la-mina-explosivos-en-la-mina/
CATEGORIES:FORMACIÓN
ATTACH;FMTTYPE=image/jpeg:https://www.museosiderurgiamineriacyl.es/wp-content/uploads/2025/04/Explosivos-en-la-mina-para-web.jpg
END:VEVENT
BEGIN:VEVENT
DTSTART;TZID=Europe/Madrid:20250410T170000
DTEND;TZID=Europe/Madrid:20250410T190000
DTSTAMP:20260423T072042
CREATED:20250403T111438Z
LAST-MODIFIED:20250403T111438Z
UID:5579-1744304400-1744311600@www.museosiderurgiamineriacyl.es
SUMMARY:MSM TE CUIDA - TALLER DE MINDFULNESS
DESCRIPTION:
URL:https://www.museosiderurgiamineriacyl.es/evento/msm-te-cuida-taller-de-mindfulness/
CATEGORIES:FORMACIÓN
ATTACH;FMTTYPE=image/jpeg:https://www.museosiderurgiamineriacyl.es/wp-content/uploads/2025/04/Taller-de-mindfulness-para-web.jpg
END:VEVENT
BEGIN:VEVENT
DTSTART;TZID=Europe/Madrid:20250417T190000
DTEND;TZID=Europe/Madrid:20250417T203000
DTSTAMP:20260423T072042
CREATED:20250415T084425Z
LAST-MODIFIED:20250415T084425Z
UID:5583-1744916400-1744921800@www.museosiderurgiamineriacyl.es
SUMMARY:MSM EN FAMILIA - CHALA2
DESCRIPTION:
URL:https://www.museosiderurgiamineriacyl.es/evento/msm-en-familia-chala2/
CATEGORIES:MSM EN FAMILIA
ATTACH;FMTTYPE=image/jpeg:https://www.museosiderurgiamineriacyl.es/wp-content/uploads/2025/04/Chala2-web.jpg
END:VEVENT
BEGIN:VEVENT
DTSTART;TZID=Europe/Madrid:20250426T113000
DTEND;TZID=Europe/Madrid:20250426T140000
DTSTAMP:20260423T072042
CREATED:20250415T084553Z
LAST-MODIFIED:20250415T084553Z
UID:5586-1745667000-1745676000@www.museosiderurgiamineriacyl.es
SUMMARY:GUAJES MSM - PINTA TU CASCO MINERO
DESCRIPTION:
URL:https://www.museosiderurgiamineriacyl.es/evento/guajes-msm-pinta-tu-casco-minero/
CATEGORIES:GUAJE MSM
ATTACH;FMTTYPE=image/jpeg:https://www.museosiderurgiamineriacyl.es/wp-content/uploads/2025/04/guajes-msm-para-web.jpg
END:VEVENT
BEGIN:VEVENT
DTSTART;TZID=Europe/Madrid:20250426T190000
DTEND;TZID=Europe/Madrid:20250426T203000
DTSTAMP:20260423T072042
CREATED:20250415T084707Z
LAST-MODIFIED:20250415T084707Z
UID:5589-1745694000-1745699400@www.museosiderurgiamineriacyl.es
SUMMARY:ESCRITORES EN LA FERRERÍA - CUENTOS DE CARBONILLA
DESCRIPTION:
URL:https://www.museosiderurgiamineriacyl.es/evento/escritores-en-la-ferreria-cuentos-de-carbonilla/
CATEGORIES:ESCRITORES EN LA FERRERÍA
ATTACH;FMTTYPE=image/jpeg:https://www.museosiderurgiamineriacyl.es/wp-content/uploads/2025/04/Cuentos-de-carbonilla-web.jpg
END:VEVENT
END:VCALENDAR