BEGIN:VCALENDAR
VERSION:2.0
PRODID:-//Museo siderurgia y minería de Castilla y León - ECPv6.15.5//NONSGML v1.0//EN
CALSCALE:GREGORIAN
METHOD:PUBLISH
X-ORIGINAL-URL:https://www.museosiderurgiamineriacyl.es
X-WR-CALDESC:Eventos para Museo siderurgia y minería de Castilla y León
REFRESH-INTERVAL;VALUE=DURATION:PT1H
X-Robots-Tag:noindex
X-PUBLISHED-TTL:PT1H
BEGIN:VTIMEZONE
TZID:Europe/Madrid
BEGIN:DAYLIGHT
TZOFFSETFROM:+0100
TZOFFSETTO:+0200
TZNAME:CEST
DTSTART:20250330T010000
END:DAYLIGHT
BEGIN:STANDARD
TZOFFSETFROM:+0200
TZOFFSETTO:+0100
TZNAME:CET
DTSTART:20251026T010000
END:STANDARD
END:VTIMEZONE
BEGIN:VEVENT
DTSTART;VALUE=DATE:20250201
DTEND;VALUE=DATE:20250301
DTSTAMP:20260423T104821
CREATED:20250128T153900Z
LAST-MODIFIED:20250128T154444Z
UID:5456-1738368000-1740787199@www.museosiderurgiamineriacyl.es
SUMMARY:LIBRO DEL MES
DESCRIPTION:
URL:https://www.museosiderurgiamineriacyl.es/evento/libro-del-mes-7/
LOCATION:Museo de la Siderurgia y la Minería de Castilla y León\, Plaza San Blas\, 1\, Sabero\, León\, 24810\, España
CATEGORIES:LIBRO DEL MES
ATTACH;FMTTYPE=image/jpeg:https://www.museosiderurgiamineriacyl.es/wp-content/uploads/2025/01/libro-web.jpg
END:VEVENT
BEGIN:VEVENT
DTSTART;TZID=Europe/Madrid:20250201T120000
DTEND;TZID=Europe/Madrid:20250201T130000
DTSTAMP:20260423T104821
CREATED:20250128T160149Z
LAST-MODIFIED:20250128T160732Z
UID:5460-1738411200-1738414800@www.museosiderurgiamineriacyl.es
SUMMARY:HECHO EN LA CUENCA - HULLA DELICATESSEN
DESCRIPTION:
URL:https://www.museosiderurgiamineriacyl.es/evento/hecho-en-la-cuenca-hulla-delicatessen/
CATEGORIES:FORMACIÓN
ATTACH;FMTTYPE=image/jpeg:https://www.museosiderurgiamineriacyl.es/wp-content/uploads/2025/01/Hulla-delicatessen-para-web.jpg
END:VEVENT
BEGIN:VEVENT
DTSTART;TZID=Europe/Madrid:20250207T180000
DTEND;TZID=Europe/Madrid:20250207T193000
DTSTAMP:20260423T104821
CREATED:20250128T165925Z
LAST-MODIFIED:20250128T165925Z
UID:5463-1738951200-1738956600@www.museosiderurgiamineriacyl.es
SUMMARY:CICLO DE CINE DOCUMENTAL - LLUMERES. MINA Y VIDA A LA MAR
DESCRIPTION:
URL:https://www.museosiderurgiamineriacyl.es/evento/ciclo-de-cine-documental-llumeres-mina-y-vida-a-la-mar/
CATEGORIES:CICLO DE CINE DOCUMENTAL
ATTACH;FMTTYPE=image/jpeg:https://www.museosiderurgiamineriacyl.es/wp-content/uploads/2025/01/Llumeres-para-web.jpg
END:VEVENT
BEGIN:VEVENT
DTSTART;TZID=Europe/Madrid:20250213T170000
DTEND;TZID=Europe/Madrid:20250213T180000
DTSTAMP:20260423T104821
CREATED:20250128T171041Z
LAST-MODIFIED:20250128T171130Z
UID:5471-1739466000-1739469600@www.museosiderurgiamineriacyl.es
SUMMARY:ANATOMÍA DEL MINERO - LOS PIES DEL MINERO
DESCRIPTION:
URL:https://www.museosiderurgiamineriacyl.es/evento/anatomia-dle-minero-los-pies-del-minero/
CATEGORIES:FORMACIÓN
ATTACH;FMTTYPE=image/jpeg:https://www.museosiderurgiamineriacyl.es/wp-content/uploads/2025/01/Los-pies-del-minero-para-web.jpg
END:VEVENT
END:VCALENDAR