BEGIN:VCALENDAR
VERSION:2.0
PRODID:-//Museo siderurgia y minería de Castilla y León - ECPv6.15.5//NONSGML v1.0//EN
CALSCALE:GREGORIAN
METHOD:PUBLISH
X-WR-CALNAME:Museo siderurgia y minería de Castilla y León
X-ORIGINAL-URL:https://www.museosiderurgiamineriacyl.es
X-WR-CALDESC:Eventos para Museo siderurgia y minería de Castilla y León
REFRESH-INTERVAL;VALUE=DURATION:PT1H
X-Robots-Tag:noindex
X-PUBLISHED-TTL:PT1H
BEGIN:VTIMEZONE
TZID:Europe/Madrid
BEGIN:DAYLIGHT
TZOFFSETFROM:+0100
TZOFFSETTO:+0200
TZNAME:CEST
DTSTART:20250330T010000
END:DAYLIGHT
BEGIN:STANDARD
TZOFFSETFROM:+0200
TZOFFSETTO:+0100
TZNAME:CET
DTSTART:20251026T010000
END:STANDARD
END:VTIMEZONE
BEGIN:VEVENT
DTSTART;VALUE=DATE:20250101
DTEND;VALUE=DATE:20250201
DTSTAMP:20260423T122448
CREATED:20250107T104712Z
LAST-MODIFIED:20250107T104740Z
UID:5433-1735689600-1738367999@www.museosiderurgiamineriacyl.es
SUMMARY:LIBRO DEL MES. LECTURA RECOMENDADA EN EL MES DE ENERO.
DESCRIPTION:
URL:https://www.museosiderurgiamineriacyl.es/evento/libro-del-mes-lectura-recomendada-en-el-mes-de-enero/
CATEGORIES:LIBRO DEL MES
ATTACH;FMTTYPE=image/jpeg:https://www.museosiderurgiamineriacyl.es/wp-content/uploads/2025/01/libro-del-mes-para-web.jpg
END:VEVENT
BEGIN:VEVENT
DTSTART;VALUE=DATE:20250111
DTEND;VALUE=DATE:20250112
DTSTAMP:20260423T122448
CREATED:20250107T105958Z
LAST-MODIFIED:20250107T105958Z
UID:5436-1736553600-1736639999@www.museosiderurgiamineriacyl.es
SUMMARY:MSM FORMACIÓN: "HECHO EN LA CUENCA: PROYECTO LA PRIORINA"
DESCRIPTION:
URL:https://www.museosiderurgiamineriacyl.es/evento/msm-formacion-hecho-en-la-cuenca-proyecto-la-priorina/
CATEGORIES:FORMACIÓN
ATTACH;FMTTYPE=image/jpeg:https://www.museosiderurgiamineriacyl.es/wp-content/uploads/2025/01/Hecho-en-la-cuenca.-La-priorina-para-web.jpg
END:VEVENT
BEGIN:VEVENT
DTSTART;VALUE=DATE:20250118
DTEND;VALUE=DATE:20250119
DTSTAMP:20260423T122448
CREATED:20250107T110951Z
LAST-MODIFIED:20250114T235516Z
UID:5442-1737158400-1737244799@www.museosiderurgiamineriacyl.es
SUMMARY:GUAJES MSM.
DESCRIPTION:
URL:https://www.museosiderurgiamineriacyl.es/evento/guajes-msm-3/
CATEGORIES:GUAJE MSM
ATTACH;FMTTYPE=image/jpeg:https://www.museosiderurgiamineriacyl.es/wp-content/uploads/2025/01/GUAJES-MSM.-El-poli-marchoso-para-web.jpg
END:VEVENT
BEGIN:VEVENT
DTSTART;VALUE=DATE:20250123
DTEND;VALUE=DATE:20250124
DTSTAMP:20260423T122448
CREATED:20250107T111211Z
LAST-MODIFIED:20250107T111232Z
UID:5445-1737590400-1737676799@www.museosiderurgiamineriacyl.es
SUMMARY:MSM FORMACIÓN. ANATOMÍA DEL MINERO".
DESCRIPTION:
URL:https://www.museosiderurgiamineriacyl.es/evento/msm-formacion-anatomia-del-minero-2/
CATEGORIES:FORMACIÓN
ATTACH;FMTTYPE=image/jpeg:https://www.museosiderurgiamineriacyl.es/wp-content/uploads/2025/01/Anatomia-del-minero.-El-alimento-del-minero-web.jpg
END:VEVENT
BEGIN:VEVENT
DTSTART;VALUE=DATE:20250125
DTEND;VALUE=DATE:20250126
DTSTAMP:20260423T122448
CREATED:20250107T111521Z
LAST-MODIFIED:20250107T111521Z
UID:5449-1737763200-1737849599@www.museosiderurgiamineriacyl.es
SUMMARY:CICLO DE CONFERENCIAS.
DESCRIPTION:
URL:https://www.museosiderurgiamineriacyl.es/evento/ciclo-de-conferencias-10/
CATEGORIES:CICLO DE CONFERENCIAS
ATTACH;FMTTYPE=image/jpeg:https://www.museosiderurgiamineriacyl.es/wp-content/uploads/2025/01/Animales-en-la-mina-para-web.jpg
END:VEVENT
END:VCALENDAR