BEGIN:VCALENDAR
VERSION:2.0
PRODID:-//Museo siderurgia y minería de Castilla y León - ECPv6.15.5//NONSGML v1.0//EN
CALSCALE:GREGORIAN
METHOD:PUBLISH
X-WR-CALNAME:Museo siderurgia y minería de Castilla y León
X-ORIGINAL-URL:https://www.museosiderurgiamineriacyl.es
X-WR-CALDESC:Eventos para Museo siderurgia y minería de Castilla y León
REFRESH-INTERVAL;VALUE=DURATION:PT1H
X-Robots-Tag:noindex
X-PUBLISHED-TTL:PT1H
BEGIN:VTIMEZONE
TZID:Europe/Madrid
BEGIN:DAYLIGHT
TZOFFSETFROM:+0100
TZOFFSETTO:+0200
TZNAME:CEST
DTSTART:20240331T010000
END:DAYLIGHT
BEGIN:STANDARD
TZOFFSETFROM:+0200
TZOFFSETTO:+0100
TZNAME:CET
DTSTART:20241027T010000
END:STANDARD
END:VTIMEZONE
BEGIN:VEVENT
DTSTART;VALUE=DATE:20240901
DTEND;VALUE=DATE:20241001
DTSTAMP:20260423T182247
CREATED:20240830T120520Z
LAST-MODIFIED:20240830T120520Z
UID:5275-1725148800-1727740799@www.museosiderurgiamineriacyl.es
SUMMARY:LIBRO DEL MES.
DESCRIPTION:
URL:https://www.museosiderurgiamineriacyl.es/evento/libro-del-mes-5/
CATEGORIES:LIBRO DEL MES
ATTACH;FMTTYPE=image/jpeg:https://www.museosiderurgiamineriacyl.es/wp-content/uploads/2024/08/libro-del-mes-para-web.jpg
END:VEVENT
BEGIN:VEVENT
DTSTART;VALUE=DATE:20240914
DTEND;VALUE=DATE:20240915
DTSTAMP:20260423T182247
CREATED:20240909T192057Z
LAST-MODIFIED:20240909T192057Z
UID:5287-1726272000-1726358399@www.museosiderurgiamineriacyl.es
SUMMARY:CICLO DE CONFERENCIAS
DESCRIPTION:
URL:https://www.museosiderurgiamineriacyl.es/evento/ciclo-de-conferencias-9/
CATEGORIES:CICLO DE CONFERENCIAS
ATTACH;FMTTYPE=image/jpeg:https://www.museosiderurgiamineriacyl.es/wp-content/uploads/2024/09/Central-Termica-de-Velilla-para-web.jpg
END:VEVENT
BEGIN:VEVENT
DTSTART;VALUE=DATE:20240920
DTEND;VALUE=DATE:20240921
DTSTAMP:20260423T182247
CREATED:20240909T192301Z
LAST-MODIFIED:20240909T192301Z
UID:5290-1726790400-1726876799@www.museosiderurgiamineriacyl.es
SUMMARY:CICLO DE CINE DOCUMENTAL
DESCRIPTION:
URL:https://www.museosiderurgiamineriacyl.es/evento/ciclo-de-cine-documental-6/
CATEGORIES:CICLO DE CINE DOCUMENTAL
ATTACH;FMTTYPE=image/jpeg:https://www.museosiderurgiamineriacyl.es/wp-content/uploads/2024/09/Las-Cuevas-Menudas-para-web.jpg
END:VEVENT
BEGIN:VEVENT
DTSTART;VALUE=DATE:20240926
DTEND;VALUE=DATE:20240927
DTSTAMP:20260423T182247
CREATED:20240909T192505Z
LAST-MODIFIED:20240909T192505Z
UID:5293-1727308800-1727395199@www.museosiderurgiamineriacyl.es
SUMMARY:MSM FORMACIÓN. ENCUENTRO CON MINEROS.
DESCRIPTION:
URL:https://www.museosiderurgiamineriacyl.es/evento/msm-formacion-encuentro-con-mineros-2/
CATEGORIES:FORMACIÓN
ATTACH;FMTTYPE=image/jpeg:https://www.museosiderurgiamineriacyl.es/wp-content/uploads/2024/09/Encuentros-con-mineros-para-web.jpg
END:VEVENT
BEGIN:VEVENT
DTSTART;VALUE=DATE:20240927
DTEND;VALUE=DATE:20240928
DTSTAMP:20260423T182247
CREATED:20240830T120805Z
LAST-MODIFIED:20240904T081855Z
UID:5278-1727395200-1727481599@www.museosiderurgiamineriacyl.es
SUMMARY:MSM FORMACIÓN.
DESCRIPTION:
URL:https://www.museosiderurgiamineriacyl.es/evento/msm-formacion-7/
CATEGORIES:FORMACIÓN
ATTACH;FMTTYPE=image/jpeg:https://www.museosiderurgiamineriacyl.es/wp-content/uploads/2024/08/Limpieza-de-minerales-para-web-1.jpg
END:VEVENT
BEGIN:VEVENT
DTSTART;VALUE=DATE:20240928
DTEND;VALUE=DATE:20240929
DTSTAMP:20260423T182247
CREATED:20240909T192946Z
LAST-MODIFIED:20240909T193055Z
UID:5298-1727481600-1727567999@www.museosiderurgiamineriacyl.es
SUMMARY:INFANTIL. GUAJES MSM.
DESCRIPTION:
URL:https://www.museosiderurgiamineriacyl.es/evento/infantil-guajes-msm-6/
CATEGORIES:GUAJE MSM
ATTACH;FMTTYPE=image/jpeg:https://www.museosiderurgiamineriacyl.es/wp-content/uploads/2024/09/Al-museo-con-energia-para-web.jpg
END:VEVENT
END:VCALENDAR